Workbook

Sheet 試算表
D1: 令和８年度 | L1: 国民健康保険 税額試算表
B4: ■ | C4: この試算表はあくまでも概算です。後日、国保税の更正決定通知書を送付いたします。
B6: 応 能 | C6: ①所得割 | H6: （ 円－430,000円） | R6: × 8.0 ％ | U6: A 医療分 | AB6: 円
H8: （ 円－430,000円） | R8: × 3.1 ％ | U8: A 支援分 | AB8: 円
C9: 前年中の所得
C10: （令和７年中） | H10: （ 円－430,000円） | R10: × 2.5 ％ | U10: A 介護分 | AB10: 円 | AC10: ◆
C11: 所得のある方一人ずつ算出
H12: （ 円－430,000円） | R12: ×0.25％ | U12: A 子ども・子育て分 | AB12: 円
B14: 応 益 | C14: ②均等割 | H14: 加入者1人当り | L14: =[1]試算表計算用DB!B2 -> 34000 | P14: 円 | R14: × 人 | U14: B 医療分 | AB14: 円
H16: 加入者１人当り | L16: =[1]試算表計算用DB!B3 -> 13000 | P16: 円 | R16: × 人 | U16: B 支援分 | AB16: 円
C17: 被保険者数
H18: 加入者１人当り | L18: =[1]試算表計算用DB!B4 -> 13000 | P18: 円 | R18: × 人 | U18: B 介護分 | AB18: 円 | AC18: ◆
H20: １８歳以上１,１７０円 ※１８歳未満０円 | L20: 1170 | P20: 円 | R20: × 人 | U20: B 子ども・子育て分 | AB20: 円
C22: ③平等割 | H22: 1世帯当り | L22: =[1]試算表計算用DB!C2 -> 23000 | P22: 円 | U22: C 医療分 | AB22: 円
H24: 1世帯当り | L24: =[1]試算表計算用DB!C3 -> 9000 | P24: 円 | U24: C 支援分 | AB24: 円
C25: 世帯につき
H26: 1世帯当り | L26: =[1]試算表計算用DB!C4 -> 7000 | P26: 円 | U26: C 介護分 | AB26: 円 | AC26: ◆
H28: 1世帯当り | L28: 700 | P28: 円 | U28: C 子ども・子育て分 | AB28: 円
C30: ◇４０歳未満の方 | K30: イ | L30: 医療分 | O30: A+B+C | R30: 限度額 | AB30: 円
D31: イ＋ロ＋ニ | R31: =試算表計算用DB!E2 -> 670000 | U31: 円
C32: ◇６５歳以上７５歳未満の方 | K32: ロ | L32: 支援分 | O32: A+B+C | R32: 限度額 | AB32: 円
D33: イ＋ロ＋ニ （※介護分は別納付） | R33: =試算表計算用DB!E3 -> 260000 | U33: 円
C34: ◆４０歳以上６５歳未満の方 | K34: ハ | L34: 介護分 | O34: A+B+C | R34: 限度額 | AB34: 円 | AC34: ◆
D35: イ＋ロ＋ハ＋ニ | R35: =試算表計算用DB!E4 -> 170000 | U35: 円
K36: ニ | L36: 子ども・ 子育て分 | O36: A+B+C | R36: 限度額 | AB36: 円
R37: =試算表計算用DB!E5 -> 30000 | U37: 円
K38: １年間の税額 | P38: イ＋ロ＋ハ＋ニ | AB38: 円
P39: ４月～翌年３月まで
K40: 加入後の税額 | P40: 月から 月まで | AB40: 円
P41: 《 ヶ月分 》
P42: １ヶ月当り | AB42: 円
P43: １ 期当り | AB43: 円
B45: 届出月 | D45: ４月届出 | F45: ５月届出 | H45: ６月届出 | J45: ７月届出 | L45: ８月届出 | N45: ９月届出 | P45: 10月届出 | R45: 11月届出 | T45: 12月届出 | V45: １月届出 | X45: ２月届出 | Z45: ３月届出
B46: 納付書送付 | D46: ７月中旬 | J46: ８月中旬 | L46: ９月中旬 | N46: 10月中旬 | P46: 11月中旬 | R46: 12月中旬 | T46: １月中旬 | V46: ２月中旬 | X46: ３月中旬 | Z46: ４月中旬
B51: 期 別 | D51: １期 | F51: ２期 | H51: ３期 | J51: ４期 | L51: ５期 | N51: ６期 | P51: ７期 | R51: ８期 | T51: ９期 | V51: １０期 | X51: 随時１期 | Z51: 随時２期
B52: 納期限 | D52: ４月末日 | F52: ６月末日 | H52: ７月末日 | J52: ８月末日 | L52: ９月末日 | N52: 10月末日 | P52: 11月末日 | R52: 12月25日 | T52: １月末日 | V52: ２月末日 | X52: ３月末日 | Z52: ４月末日

Sheet 試算表 (計算用)
D1: 令和８年度 | L1: 国民健康保険 税額試算表
B4: ■ | C4: この試算表はあくまでも概算です。後日、国保税の更正決定通知書を送付いたします。
B6: 応 能 | C6: ①所得割 | H6: （ 円－430,000円） | R6: × 8.0 ％ | U6: A 医療分 | X6: =ROUNDDOWN(AL22*試算表計算用DB!D2,-2) -> 200000 | AB6: 円
AE7: 被保険者数 | AF7: =COUNTIF(AE11:AE21,"世帯主")+COUNTIF(AE11:AE21,"被保険者") -> 4
H8: （ 円－430,000円） | R8: × 3.1 ％ | U8: A 支援分 | X8: =ROUNDDOWN(AL22*試算表計算用DB!D3,-2) -> 77500 | AB8: 円 | AE8: 介護該当者数 | AF8: =COUNTIF(AK11:AK21,"介護該当") -> 0
C9: 前年中の所得 | AE9: 給与所得者等の数 | AF9: =COUNTIF(AN11:AN21,"給与所得がある")+COUNTIF(AN11:AN21,"年金所得がある（65歳未満）")+COUNTIF(AN11:AN21,"給与所得があり、年金所得が15万円以下（65歳以上）")+COUNTIF(AN11:AN21,"年金所得が15万円超（65歳以上）") -> 4
C10: （令和７年中） | H10: （ 円－430,000円） | R10: × 2.5 ％ | U10: A 介護分 | X10: =ROUNDDOWN(AM22*試算表計算用DB!D4,-2) -> 0 | AB10: 円 | AC10: ◆ | AE10: 区分 | AF10: 給与所得 | AG10: 年金所得 | AH10: その他（事業等） | AI10: 生年月日 | AJ10: 年齢 | AK10: 介護該当 | AL10: 所得割基礎額 | AM10: 介護所得割 | AN10: 給与所得者等の判定 | AO10: 軽減判定所得
C11: 所得のある方一人ずつ算出 | AE11: 世帯主 | AG11: 750000 | AI11: 19725 | AJ11: =IF(AI11="","",DATEDIF(AI11,TODAY(),"Y")) -> 72 | AK11: =IF(AE11="世帯主",IF(AND(AJ11<=64,40<=AJ11),"介護該当",""),"") | AL11: =IF(AE11="世帯主",IF(AF11+AG11+AH11>試算表計算用DB!$B$6,AF11+AG11+AH11-試算表計算用DB!$B$6,0),0) -> 320000 | AM11: =IF(AK11="介護該当",AL11,0) -> 0 | AN11: =IF(AJ11<=64,IF(AF11>0,"給与所得がある",IF(AG11>0,"年金所得がある（65歳未満）","")),IF(AG11>150000,"年金所得が15万円超（65歳以上）",IF(AF11>0,"給与所得があり、年金所得が15万円以下（65歳以上）",""))) -> 年金所得が15万円超（65歳以上） | AO11: =IF(AN11="年金所得が15万円超（65歳以上）",AF11+AG11+AH11-150000,IF(AJ11<65,AF11+AG11+AH11,AF11+AH11)) -> 600000
H12: （ 円－430,000円） | R12: ×0.25％ | U12: A 子ども・子育て分 | X12: =ROUNDDOWN(AL22*試算表計算用DB!D5,-2) -> 6200 | AB12: 円 | AE12: 被保険者 | AG12: 500000 | AI12: 20455 | AJ12: =IF(AI12="","",DATEDIF(AI12,TODAY(),"Y")) -> 70 | AK12: =IF(AND(AJ12<=64,40<=AJ12),"介護該当","") | AL12: =IF(AF12+AG12+AH12>試算表計算用DB!$B$6,AF12+AG12+AH12-試算表計算用DB!$B$6,0) -> 70000 | AM12: =IF(AK12="介護該当",AL12,0) -> 0 | AN12: =IF(AJ12<=64,IF(AF12>0,"給与所得がある",IF(AG12>0,"年金所得がある（65歳未満）","")),IF(AG12>150000,"年金所得が15万円超（65歳以上）",IF(AF12>0,"給与所得があり、年金所得が15万円以下（65歳以上）",""))) -> 年金所得が15万円超（65歳以上） | AO12: =IF(AN12="年金所得が15万円超（65歳以上）",AF12+AG12+AH12-150000,IF(AJ12<65,AF12+AG12+AH12,AF12+AH12)) -> 350000
AE13: 被保険者 | AF13: 2500000 | AI13: 31810 | AJ13: =IF(AI13="","",DATEDIF(AI13,TODAY(),"Y")) -> 39 | AK13: =IF(AND(AJ13<=64,40<=AJ13),"介護該当","") | AL13: =IF(AF13+AG13+AH13>試算表計算用DB!$B$6,AF13+AG13+AH13-試算表計算用DB!$B$6,0) -> 2070000 | AM13: =IF(AK13="介護該当",AL13,0) -> 0 | AN13: =IF(AJ13<=64,IF(AF13>0,"給与所得がある",IF(AG13>0,"年金所得がある（65歳未満）","")),IF(AG13>150000,"年金所得が15万円超（65歳以上）",IF(AF13>0,"給与所得があり、年金所得が15万円以下（65歳以上）",""))) -> 給与所得がある | AO13: =IF(AN13="年金所得が15万円超（65歳以上）",AF13+AG13+AH13-150000,IF(AJ13<65,AF13+AG13+AH13,AF13+AH13)) -> 2500000
B14: 応 益 | C14: ②均等割 | H14: 加入者1人当り | L14: =[1]試算表計算用DB!B2 -> 34000 | P14: 円 | R14: × 人 | U14: B 医療分 | X14: =IF($AO$27="軽減無し",試算表計算用DB!B2*AF7,IF($AO$27="２割軽減",試算表計算用DB!B2*AF7*0.8,IF($AO$27="５割軽減",試算表計算用DB!B2*AF7*0.5,IF($AO$27="7割軽減",試算表計算用DB!B2*AF7*0.3,試算表計算用DB!B2*AF7)))) -> 136000 | AB14: 円 | AE14: 被保険者 | AF14: 470000 | AI14: 32205 | AJ14: =IF(AI14="","",DATEDIF(AI14,TODAY(),"Y")) -> 38 | AK14: =IF(AND(AJ14<=64,40<=AJ14),"介護該当","") | AL14: =IF(AF14+AG14+AH14>試算表計算用DB!$B$6,AF14+AG14+AH14-試算表計算用DB!$B$6,0) -> 40000 | AM14: =IF(AK14="介護該当",AL14,0) -> 0 | AN14: =IF(AJ14<=64,IF(AF14>0,"給与所得がある",IF(AG14>0,"年金所得がある（65歳未満）","")),IF(AG14>150000,"年金所得が15万円超（65歳以上）",IF(AF14>0,"給与所得があり、年金所得が15万円以下（65歳以上）",""))) -> 給与所得がある | AO14: =IF(AN14="年金所得が15万円超（65歳以上）",AF14+AG14+AH14-150000,IF(AJ14<65,AF14+AG14+AH14,AF14+AH14)) -> 470000
AJ15: =IF(AI15="","",DATEDIF(AI15,TODAY(),"Y")) | AK15: =IF(AND(AJ15<=64,40<=AJ15),"介護該当","") | AL15: =IF(AF15+AG15+AH15>試算表計算用DB!$B$6,AF15+AG15+AH15-試算表計算用DB!$B$6,0) -> 0 | AM15: =IF(AK15="介護該当",AL15,0) -> 0 | AN15: =IF(AJ15<=64,IF(AF15>0,"給与所得がある",IF(AG15>0,"年金所得がある（65歳未満）","")),IF(AG15>150000,"年金所得が15万円超（65歳以上）",IF(AF15>0,"給与所得があり、年金所得が15万円以下（65歳以上）",""))) | AO15: =IF(AN15="年金所得が15万円超（65歳以上）",AF15+AG15+AH15-150000,IF(AJ15<65,AF15+AG15+AH15,AF15+AH15)) -> 0
H16: 加入者１人当り | L16: =[1]試算表計算用DB!B3 -> 13000 | P16: 円 | R16: × 人 | U16: B 支援分 | X16: =IF($AO$27="軽減無し",試算表計算用DB!B3*AF7,IF($AO$27="２割軽減",試算表計算用DB!B3*AF7*0.8,IF($AO$27="５割軽減",試算表計算用DB!B3*AF7*0.5,IF($AO$27="7割軽減",試算表計算用DB!B3*AF7*0.3,試算表計算用DB!B3*AF7)))) -> 52000 | AB16: 円 | AJ16: =IF(AI16="","",DATEDIF(AI16,TODAY(),"Y")) | AK16: =IF(AND(AJ16<=64,40<=AJ16),"介護該当","") | AL16: =IF(AF16+AG16+AH16>試算表計算用DB!$B$6,AF16+AG16+AH16-試算表計算用DB!$B$6,0) -> 0 | AM16: =IF(AK16="介護該当",AL16,0) -> 0 | AN16: =IF(AJ16<=64,IF(AF16>0,"給与所得がある",IF(AG16>0,"年金所得がある（65歳未満）","")),IF(AG16>150000,"年金所得が15万円超（65歳以上）",IF(AF16>0,"給与所得があり、年金所得が15万円以下（65歳以上）",""))) | AO16: =IF(AN16="年金所得が15万円超（65歳以上）",AF16+AG16+AH16-150000,IF(AJ16<65,AF16+AG16+AH16,AF16+AH16)) -> 0
C17: 被保険者数 | AJ17: =IF(AI17="","",DATEDIF(AI17,TODAY(),"Y")) | AK17: =IF(AND(AJ17<=64,40<=AJ17),"介護該当","") | AL17: =IF(AF17+AG17+AH17>試算表計算用DB!$B$6,AF17+AG17+AH17-試算表計算用DB!$B$6,0) -> 0 | AM17: =IF(AK17="介護該当",AL17,0) -> 0 | AN17: =IF(AJ17<=64,IF(AF17>0,"給与所得がある",IF(AG17>0,"年金所得がある（65歳未満）","")),IF(AG17>150000,"年金所得が15万円超（65歳以上）",IF(AF17>0,"給与所得があり、年金所得が15万円以下（65歳以上）",""))) | AO17: =IF(AN17="年金所得が15万円超（65歳以上）",AF17+AG17+AH17-150000,IF(AJ17<65,AF17+AG17+AH17,AF17+AH17)) -> 0
H18: 加入者１人当り | L18: =[1]試算表計算用DB!B4 -> 13000 | P18: 円 | R18: × 人 | U18: B 介護分 | X18: =IF(AF8>0,IF($AO$27="軽減無し",試算表計算用DB!B4*AF8,IF($AO$27="２割軽減",試算表計算用DB!B4*AF8*0.8,IF($AO$27="５割軽減",試算表計算用DB!B4*AF8*0.5,IF($AO$27="7割軽減",試算表計算用DB!B4*AF8*0.3,試算表計算用DB!B4*AF8)))),0) -> 0 | AB18: 円 | AC18: ◆ | AJ18: =IF(AI18="","",DATEDIF(AI18,TODAY(),"Y")) | AK18: =IF(AND(AJ18<=64,40<=AJ18),"介護該当","") | AL18: =IF(AF18+AG18+AH18>試算表計算用DB!$B$6,AF18+AG18+AH18-試算表計算用DB!$B$6,0) -> 0 | AM18: =IF(AK18="介護該当",AL18,0) -> 0 | AN18: =IF(AJ18<=64,IF(AF18>0,"給与所得がある",IF(AG18>0,"年金所得がある（65歳未満）","")),IF(AG18>150000,"年金所得が15万円超（65歳以上）",IF(AF18>0,"給与所得があり、年金所得が15万円以下（65歳以上）",""))) | AO18: =IF(AN18="年金所得が15万円超（65歳以上）",AF18+AG18+AH18-150000,IF(AJ18<65,AF18+AG18+AH18,AF18+AH18)) -> 0
AJ19: =IF(AI19="","",DATEDIF(AI19,TODAY(),"Y")) | AK19: =IF(AND(AJ19<=64,40<=AJ19),"介護該当","") | AL19: =IF(AF19+AG19+AH19>試算表計算用DB!$B$6,AF19+AG19+AH19-試算表計算用DB!$B$6,0) -> 0 | AM19: =IF(AK19="介護該当",AL19,0) -> 0 | AN19: =IF(AJ19<=64,IF(AF19>0,"給与所得がある",IF(AG19>0,"年金所得がある（65歳未満）","")),IF(AG19>150000,"年金所得が15万円超（65歳以上）",IF(AF19>0,"給与所得があり、年金所得が15万円以下（65歳以上）",""))) | AO19: =IF(AN19="年金所得が15万円超（65歳以上）",AF19+AG19+AH19-150000,IF(AJ19<65,AF19+AG19+AH19,AF19+AH19)) -> 0
H20: １８歳以上１,１７０円 ※１８歳未満０円 | L20: 1170 | P20: 円 | R20: × 人 | U20: B 子ども・子育て分 | X20: =IF($AO$27="軽減無し",試算表計算用DB!B5*AF7,IF($AO$27="２割軽減",試算表計算用DB!B2*AF7*0.0025,IF($AO$27="５割軽減",試算表計算用DB!B2*AF7*0.5,IF($AO$27="7割軽減",試算表計算用DB!B2*AF7*0.3,試算表計算用DB!B2*AF7)))) -> 4680 | AB20: 円 | AJ20: =IF(AI20="","",DATEDIF(AI20,TODAY(),"Y")) | AK20: =IF(AND(AJ20<=64,40<=AJ20),"介護該当","") | AL20: =IF(AF20+AG20+AH20>試算表計算用DB!$B$6,AF20+AG20+AH20-試算表計算用DB!$B$6,0) -> 0 | AM20: =IF(AK20="介護該当",AL20,0) -> 0 | AN20: =IF(AJ20<=64,IF(AF20>0,"給与所得がある",IF(AG20>0,"年金所得がある（65歳未満）","")),IF(AG20>150000,"年金所得が15万円超（65歳以上）",IF(AF20>0,"給与所得があり、年金所得が15万円以下（65歳以上）",""))) | AO20: =IF(AN20="年金所得が15万円超（65歳以上）",AF20+AG20+AH20-150000,IF(AJ20<65,AF20+AG20+AH20,AF20+AH20)) -> 0
AJ21: =IF(AI21="","",DATEDIF(AI21,TODAY(),"Y")) | AK21: =IF(AND(AJ21<=64,40<=AJ21),"介護該当","") | AL21: =IF(AF21+AG21+AH21>試算表計算用DB!$B$6,AF21+AG21+AH21-試算表計算用DB!$B$6,0) -> 0 | AM21: =IF(AK21="介護該当",AL21,0) -> 0 | AN21: =IF(AJ21<=64,IF(AF21>0,"給与所得がある",IF(AG21>0,"年金所得がある（65歳未満）","")),IF(AG21>150000,"年金所得が15万円超（65歳以上）",IF(AF21>0,"給与所得があり、年金所得が15万円以下（65歳以上）",""))) | AO21: =IF(AN21="年金所得が15万円超（65歳以上）",AF21+AG21+AH21-150000,IF(AJ21<65,AF21+AG21+AH21,AF21+AH21)) -> 0
C22: ③平等割 | H22: 1世帯当り | L22: =[1]試算表計算用DB!C2 -> 23000 | P22: 円 | U22: C 医療分 | X22: =IF($AO$27="軽減無し",試算表計算用DB!C2,IF($AO$27="２割軽減",試算表計算用DB!C2*0.8,IF($AO$27="５割軽減",試算表計算用DB!C2*0.5,IF($AO$27="7割軽減",試算表計算用DB!C2*0.3,試算表計算用DB!C2)))) -> 23000 | AB22: 円 | AL22: =SUM(AL11:AL21) -> 2500000 | AM22: =SUM(AM11:AM21) -> 0 | AO22: =SUM(AO11:AO21) -> 3920000
H24: 1世帯当り | L24: =[1]試算表計算用DB!C3 -> 9000 | P24: 円 | U24: C 支援分 | X24: =IF($AO$27="軽減無し",試算表計算用DB!C3,IF($AO$27="２割軽減",試算表計算用DB!C3*0.8,IF($AO$27="５割軽減",試算表計算用DB!C3*0.5,IF($AO$27="7割軽減",試算表計算用DB!C3*0.3,試算表計算用DB!C3)))) -> 9000 | AB24: 円 | AN24: 軽減判定基準（７割軽減） | AO24: =IF($AF$9=0,試算表計算用DB!$B$6,試算表計算用DB!$B$6+100000*('試算表 (計算用)'!$AF$9-1)) -> 730000
C25: 世帯につき | AN25: 軽減判定基準（５割軽減） | AO25: =IF($AF$9=0,試算表計算用DB!$B$6+($AF$7*305000),試算表計算用DB!$B$6+($AF$7*305000+100000*('試算表 (計算用)'!$AF$9-1))) -> 1950000
H26: 1世帯当り | L26: =[1]試算表計算用DB!C4 -> 7000 | P26: 円 | U26: C 介護分 | X26: =IF(AF8>0,IF($AO$27="軽減無し",試算表計算用DB!C4,IF($AO$27="２割軽減",試算表計算用DB!C4*0.8,IF($AO$27="５割軽減",試算表計算用DB!C4*0.5,IF($AO$27="7割軽減",試算表計算用DB!C4*0.3,試算表計算用DB!C4)))),0) -> 0 | AB26: 円 | AC26: ◆ | AN26: 軽減判定基準（２割軽減） | AO26: =IF($AF$9=0,試算表計算用DB!$B$6+($AF$7*560000),試算表計算用DB!$B$6+($AF$7*560000+100000*('試算表 (計算用)'!$AF$9-1))) -> 2970000
AO27: =IF(AO22<=AO26,IF(AO22<=AO25,IF(AO22<=AO24,"7割軽減","５割軽減"),"２割軽減"),"軽減無し") -> 軽減無し
H28: 1世帯当り | L28: 700 | P28: 円 | U28: C 子ども・子育て分 | X28: 700 | AB28: 円
C30: ◇４０歳未満の方 | K30: イ | L30: 医療分 | O30: A+B+C | R30: 限度額 | V30: =MIN((X6+X14+X22),試算表計算用DB!$E$2) -> 359000 | AB30: 円
D31: イ＋ロ＋ニ | R31: =試算表計算用DB!E2 -> 670000 | U31: 円
C32: ◇６５歳以上７５歳未満の方 | K32: ロ | L32: 支援分 | O32: A+B+C | R32: 限度額 | V32: =MIN((X8+X16+X24),試算表計算用DB!$E$3) -> 138500 | AB32: 円 | AF32: 試算手順 １．世帯主区分と被保険者の人数を選択 ２．所得欄を入力（所得がない方は空欄のまま） ３．生年月日を入力
D33: イ＋ロ＋ニ （※介護分は別納付） | R33: =試算表計算用DB!E3 -> 260000 | U33: 円
C34: ◆４０歳以上６５歳未満の方 | K34: ハ | L34: 介護分 | O34: A+B+C | R34: 限度額 | V34: =MIN((X10+X18+X26),試算表計算用DB!$E$4) -> 0 | AB34: 円 | AC34: ◆
D35: イ＋ロ＋ハ＋ニ | R35: =試算表計算用DB!E4 -> 170000 | U35: 円
K36: ニ | L36: 子ども・ 子育て分 | O36: A+B+C | R36: 限度額 | V36: =MIN((X12+X20+X28),試算表計算用DB!$E$4) -> 11580 | AB36: 円
R37: =試算表計算用DB!E5 -> 30000 | U37: 円
K38: １年間の税額 | P38: イ＋ロ＋ハ＋ニ | V38: =ROUNDDOWN(V30+V32+V34+V36,-2) -> 509000 | AB38: 円
P39: ４月～翌年３月まで
K40: 加入後の税額 | P40: 月から 月まで | AB40: 円
P41: 《 ヶ月分 》
P42: １ヶ月当り | V42: =V38/12 -> 42416.667 | AB42: 円
P43: １ 期当り | AB43: 円
B45: 届出月 | D45: ４月届出 | F45: ５月届出 | H45: ６月届出 | J45: ７月届出 | L45: ８月届出 | N45: ９月届出 | P45: 10月届出 | R45: 11月届出 | T45: 12月届出 | V45: １月届出 | X45: ２月届出 | Z45: ３月届出
B46: 納付書送付 | D46: ７月中旬 | J46: ８月中旬 | L46: ９月中旬 | N46: 10月中旬 | P46: 11月中旬 | R46: 12月中旬 | T46: １月中旬 | V46: ２月中旬 | X46: ３月中旬 | Z46: ４月中旬
B51: 期 別 | D51: １期 | F51: ２期 | H51: ３期 | J51: ４期 | L51: ５期 | N51: ６期 | P51: ７期 | R51: ８期 | T51: ９期 | V51: １０期 | X51: 随時１期 | Z51: 随時２期
B52: 納期限 | D52: ４月末日 | F52: ６月末日 | H52: ７月末日 | J52: ８月末日 | L52: ９月末日 | N52: 10月末日 | P52: 11月末日 | R52: 12月25日 | T52: １月末日 | V52: ２月末日 | X52: ３月末日 | Z52: ４月末日

Sheet 試算表計算用DB
B1: 均等割 | C1: 平等割 | D1: 税率 | E1: 限度額
A2: 医療分 | B2: 34000 | C2: 23000 | D2: 0.08 | E2: 670000
A3: 支援分 | B3: 13000 | C3: 9000 | D3: 0.031 | E3: 260000
A4: 介護分 | B4: 13000 | C4: 7000 | D4: 0.025 | E4: 170000
A5: 子ども分 | B5: 1170 | C5: 700 | D5: 0.0025 | E5: 30000
A6: 基礎控除 | B6: 430000

Sheet 仮算定額計算表
A1: 仮算定税額計算
A2: ① R○年度課税額 | B2: ② R○年度国保加入月数 | C2: ③ 1月当りの賦課額 | D2: ④ ③*12ヶ月 | E2: ⑤ ④/10期 | F2: ⑥ ⑤*仮算定2期分
A3: 120000 | B3: 12 | C3: =A3/B3 -> 10000 | D3: =C3*12 -> 120000 | E3: =D3/10 -> 12000 | F3: =E3*2 -> 24000
A4: ※減免されていた世帯は減免前の課税額で計算すること。
A5: ※課税額の内容を確認しない場合は、特定世帯・特定継続世帯が終了する世帯は誤差があります。
A6: ※介護分の年齢を考慮しないで計算する場合も誤差が生じます。
